BEGIN:VCALENDAR
VERSION:2.0
PRODID:-//UBAM - União Brasileira das Associações de Musicoterapia - ECPv6.13.2.1//NONSGML v1.0//EN
CALSCALE:GREGORIAN
METHOD:PUBLISH
X-ORIGINAL-URL:https://ubammusicoterapia.com.br
X-WR-CALDESC:Eventos para UBAM - União Brasileira das Associações de Musicoterapia
REFRESH-INTERVAL;VALUE=DURATION:PT1H
X-Robots-Tag:noindex
X-PUBLISHED-TTL:PT1H
BEGIN:VTIMEZONE
TZID:America/Sao_Paulo
BEGIN:STANDARD
TZOFFSETFROM:-0300
TZOFFSETTO:-0300
TZNAME:-03
DTSTART:20230101T000000
END:STANDARD
END:VTIMEZONE
BEGIN:VEVENT
DTSTART;TZID=America/Sao_Paulo:20230419T200000
DTEND;TZID=America/Sao_Paulo:20230419T220000
DTSTAMP:20260423T212517
CREATED:20230413T133545Z
LAST-MODIFIED:20230413T133545Z
UID:4001-1681934400-1681941600@ubammusicoterapia.com.br
SUMMARY:Reunião da Diretoria da UBAM
DESCRIPTION:
URL:https://ubammusicoterapia.com.br/evento/reuniao-da-diretoria-da-ubam-2/
CATEGORIES:Agenda de atividades da UBAM
END:VEVENT
BEGIN:VEVENT
DTSTART;TZID=America/Sao_Paulo:20230413T200000
DTEND;TZID=America/Sao_Paulo:20230413T210000
DTSTAMP:20260423T212517
CREATED:20230413T133414Z
LAST-MODIFIED:20230413T133414Z
UID:3999-1681416000-1681419600@ubammusicoterapia.com.br
SUMMARY:Reunião com a Comissão do Estatuto e Regimento
DESCRIPTION:
URL:https://ubammusicoterapia.com.br/evento/reuniao-com-a-comissao-do-estatuto-e-regimento-6/
CATEGORIES:Agenda de atividades da UBAM
END:VEVENT
BEGIN:VEVENT
DTSTART;TZID=America/Sao_Paulo:20230406T200000
DTEND;TZID=America/Sao_Paulo:20230406T210000
DTSTAMP:20260423T212517
CREATED:20230413T133313Z
LAST-MODIFIED:20230413T133313Z
UID:3997-1680811200-1680814800@ubammusicoterapia.com.br
SUMMARY:Reunião com a Comissão do Estatuto e Regimento
DESCRIPTION:
URL:https://ubammusicoterapia.com.br/evento/reuniao-com-a-comissao-do-estatuto-e-regimento-3/
CATEGORIES:Agenda de atividades da UBAM
END:VEVENT
BEGIN:VEVENT
DTSTART;TZID=America/Sao_Paulo:20230330T200000
DTEND;TZID=America/Sao_Paulo:20230330T210000
DTSTAMP:20260423T212517
CREATED:20230302T185447Z
LAST-MODIFIED:20230302T190107Z
UID:3887-1680206400-1680210000@ubammusicoterapia.com.br
SUMMARY:Reunião com a Comissão do Estatuto e Regimento
DESCRIPTION:
URL:https://ubammusicoterapia.com.br/evento/reuniao-com-a-comissao-do-estatuto-e-regimento-5/
CATEGORIES:Agenda de atividades da UBAM
END:VEVENT
BEGIN:VEVENT
DTSTART;TZID=America/Sao_Paulo:20230329T200000
DTEND;TZID=America/Sao_Paulo:20230329T213000
DTSTAMP:20260423T212517
CREATED:20230325T183457Z
LAST-MODIFIED:20230325T183457Z
UID:3935-1680120000-1680125400@ubammusicoterapia.com.br
SUMMARY:Participação da presidência na aula magna da pós-graduação de Musicoterapia da FTBB
DESCRIPTION:
URL:https://ubammusicoterapia.com.br/evento/participacao-da-presidencia-na-aula-magna-da-pos-graduacao-de-musicoterapia-da-ftbb/
CATEGORIES:Agenda de atividades da UBAM
END:VEVENT
BEGIN:VEVENT
DTSTART;TZID=America/Sao_Paulo:20230328T200000
DTEND;TZID=America/Sao_Paulo:20230328T220000
DTSTAMP:20260423T212517
CREATED:20230302T190636Z
LAST-MODIFIED:20230302T191449Z
UID:3896-1680033600-1680040800@ubammusicoterapia.com.br
SUMMARY:Reunião com as Associações Vinculadas à UBAM
DESCRIPTION:
URL:https://ubammusicoterapia.com.br/evento/reuniao-com-as-associacoes-vinculadas/
CATEGORIES:Agenda de atividades da UBAM
END:VEVENT
BEGIN:VEVENT
DTSTART;TZID=America/Sao_Paulo:20230327T200000
DTEND;TZID=America/Sao_Paulo:20230327T210000
DTSTAMP:20260423T212517
CREATED:20230325T182724Z
LAST-MODIFIED:20230325T182724Z
UID:3932-1679947200-1679950800@ubammusicoterapia.com.br
SUMMARY:Reunião com assessor de comunicação
DESCRIPTION:
URL:https://ubammusicoterapia.com.br/evento/reuniao-com-assessor-de-comunicacao/
CATEGORIES:Agenda de atividades da UBAM
END:VEVENT
BEGIN:VEVENT
DTSTART;TZID=America/Sao_Paulo:20230325T000000
DTEND;TZID=America/Sao_Paulo:20230325T000000
DTSTAMP:20260423T212517
CREATED:20230302T190535Z
LAST-MODIFIED:20230302T192045Z
UID:3894-1679702400-1679702400@ubammusicoterapia.com.br
SUMMARY:Assembleia Extraordinária
DESCRIPTION:Apresentação e aprovação do Plano Bienal de Atividades da UBAM
URL:https://ubammusicoterapia.com.br/evento/assembleia-extraordinaria/
CATEGORIES:Agenda de atividades da UBAM
END:VEVENT
BEGIN:VEVENT
DTSTART;TZID=America/Sao_Paulo:20230323T200000
DTEND;TZID=America/Sao_Paulo:20230323T210000
DTSTAMP:20260423T212517
CREATED:20230302T185412Z
LAST-MODIFIED:20230302T190032Z
UID:3885-1679601600-1679605200@ubammusicoterapia.com.br
SUMMARY:Reunião com a Comissão do Estatuto e Regimento
DESCRIPTION:
URL:https://ubammusicoterapia.com.br/evento/reuniao-com-a-comissao-do-estatuto-e-regimento-4/
CATEGORIES:Agenda de atividades da UBAM
END:VEVENT
BEGIN:VEVENT
DTSTART;TZID=America/Sao_Paulo:20230321T200000
DTEND;TZID=America/Sao_Paulo:20230321T220000
DTSTAMP:20260423T212517
CREATED:20230302T190445Z
LAST-MODIFIED:20230302T191812Z
UID:3892-1679428800-1679436000@ubammusicoterapia.com.br
SUMMARY:Reunião da Diretoria da UBAM
DESCRIPTION:
URL:https://ubammusicoterapia.com.br/evento/reuniao-da-diretoria/
CATEGORIES:Agenda de atividades da UBAM
END:VEVENT
BEGIN:VEVENT
DTSTART;TZID=America/Sao_Paulo:20230316T203000
DTEND;TZID=America/Sao_Paulo:20230316T220000
DTSTAMP:20260423T212517
CREATED:20230325T182554Z
LAST-MODIFIED:20230325T182554Z
UID:3930-1678998600-1679004000@ubammusicoterapia.com.br
SUMMARY:Reunião com musicoterapeutas do Pará
DESCRIPTION:
URL:https://ubammusicoterapia.com.br/evento/reuniao-com-musicoterapeutas-do-para/
CATEGORIES:Agenda de atividades da UBAM
END:VEVENT
BEGIN:VEVENT
DTSTART;TZID=America/Sao_Paulo:20230314T200000
DTEND;TZID=America/Sao_Paulo:20230314T220000
DTSTAMP:20260423T212517
CREATED:20230302T190319Z
LAST-MODIFIED:20230302T191840Z
UID:3890-1678824000-1678831200@ubammusicoterapia.com.br
SUMMARY:Reunião com as vinculadas\, conselhos\, comissões e GTs
DESCRIPTION:Apresentação e ajustes do Planejamento Estratégico da UBAM
URL:https://ubammusicoterapia.com.br/evento/reuniao-com-as-vinculadas-conselhos-comissoes-e-gts/
CATEGORIES:Agenda de atividades da UBAM
END:VEVENT
BEGIN:VEVENT
DTSTART;TZID=America/Sao_Paulo:20230309T203000
DTEND;TZID=America/Sao_Paulo:20230309T223000
DTSTAMP:20260423T212517
CREATED:20230302T181127Z
LAST-MODIFIED:20230308T213239Z
UID:3869-1678393800-1678401000@ubammusicoterapia.com.br
SUMMARY:Primeira RODA DE CONVERSA da ASBAMT
DESCRIPTION:Venha\, participe e fique por dentro dos fluxos institucionais da musicoterapia na Bahia e em Sergipe\, além dos informes nacionais. \nDaremos as boas vindas àqueles musicoterapeutas que estão chegando e reservaremos um momento para tirar dúvidas! \nEstão tod@s convidad@s! \n👍🏽Musicoterapeutas associados;\n👍🏾Musicoterapeutas não-associados;\n👍🏿Estudantes de Musicoterapia. \n👆🏽Entendemos que abrir as portas é abrir fronteiras\,\né aproximar\,\né fortalecer o movimento da MUSICOTERAPIA BRASILEIRA!\n🤜🏽🤛🏿 \nO que: RODA de CONVERSA com associados ASBAMT \nQuando: Dia 09/03\, quinta-feira \nHorário: 20:30h \nFormato: ainda remoto\, pelo Google meet: \nhttp://meet.google.com/oiu-iprn-qkz \nContamos com sua presença! \nEquipe ASBAMT
URL:https://ubammusicoterapia.com.br/evento/roda-de-conversa-com-associados-asbamt/
CATEGORIES:Agenda de eventos
ATTACH;FMTTYPE=image/jpeg:https://ubammusicoterapia.com.br/wp-content/uploads/2023/03/WhatsApp-Image-2023-03-06-at-12.23.26.jpeg
END:VEVENT
BEGIN:VEVENT
DTSTART;TZID=America/Sao_Paulo:20230309T200000
DTEND;TZID=America/Sao_Paulo:20230309T210000
DTSTAMP:20260423T212517
CREATED:20230302T185309Z
LAST-MODIFIED:20230302T185917Z
UID:3881-1678392000-1678395600@ubammusicoterapia.com.br
SUMMARY:Reunião com a Comissão do Estatuto e Regimento
DESCRIPTION:
URL:https://ubammusicoterapia.com.br/evento/reuniao-com-a-comissao-do-estatuto-e-regimento-2/
CATEGORIES:Agenda de atividades da UBAM
END:VEVENT
BEGIN:VEVENT
DTSTART;TZID=America/Sao_Paulo:20230307T203000
DTEND;TZID=America/Sao_Paulo:20230307T220000
DTSTAMP:20260423T212517
CREATED:20230302T185208Z
LAST-MODIFIED:20230302T185640Z
UID:3879-1678221000-1678226400@ubammusicoterapia.com.br
SUMMARY:Reunião com o GT Arquivo e Documentação
DESCRIPTION:
URL:https://ubammusicoterapia.com.br/evento/reuniao-com-o-gt-arquivo-e-documentacao/
CATEGORIES:Agenda de atividades da UBAM
END:VEVENT
BEGIN:VEVENT
DTSTART;TZID=America/Sao_Paulo:20230302T200000
DTEND;TZID=America/Sao_Paulo:20230302T210000
DTSTAMP:20260423T212517
CREATED:20230302T185046Z
LAST-MODIFIED:20230302T185552Z
UID:3877-1677787200-1677790800@ubammusicoterapia.com.br
SUMMARY:Reunião com a Comissão do Estatuto e Regimento
DESCRIPTION:
URL:https://ubammusicoterapia.com.br/evento/reuniao-com-comissao-do-estatuto-e-regimento-2/
CATEGORIES:Agenda de atividades da UBAM
END:VEVENT
BEGIN:VEVENT
DTSTART;TZID=America/Sao_Paulo:20230228T200000
DTEND;TZID=America/Sao_Paulo:20230228T210000
DTSTAMP:20260423T212517
CREATED:20230215T195609Z
LAST-MODIFIED:20230227T205000Z
UID:3812-1677614400-1677618000@ubammusicoterapia.com.br
SUMMARY:Reunião com Associações Vinculadas à UBAM - planejamento estratégico regional
DESCRIPTION:
URL:https://ubammusicoterapia.com.br/evento/reuniao-com-associacoes-vinculadas-a-ubam-planejamento-estrategico-regional/
CATEGORIES:Agenda de atividades da UBAM
END:VEVENT
BEGIN:VEVENT
DTSTART;TZID=America/Sao_Paulo:20230223T203000
DTEND;TZID=America/Sao_Paulo:20230223T213000
DTSTAMP:20260423T212517
CREATED:20230215T195534Z
LAST-MODIFIED:20230227T205000Z
UID:3810-1677184200-1677187800@ubammusicoterapia.com.br
SUMMARY:Reunião com a equipe de comunicação
DESCRIPTION:
URL:https://ubammusicoterapia.com.br/evento/reuniao-com-a-equipe-de-comunicacao/
CATEGORIES:Agenda de atividades da UBAM
END:VEVENT
BEGIN:VEVENT
DTSTART;TZID=America/Sao_Paulo:20230216T200000
DTEND;TZID=America/Sao_Paulo:20230216T210000
DTSTAMP:20260423T212517
CREATED:20230302T184421Z
LAST-MODIFIED:20230302T191005Z
UID:3874-1676577600-1676581200@ubammusicoterapia.com.br
SUMMARY:Reunião com a Comissão do Estatuto e Regimento
DESCRIPTION:
URL:https://ubammusicoterapia.com.br/evento/reuniao-com-a-comissao-do-estatuto-e-regimento/
CATEGORIES:Agenda de atividades da UBAM
END:VEVENT
BEGIN:VEVENT
DTSTART;TZID=America/Sao_Paulo:20230215T203000
DTEND;TZID=America/Sao_Paulo:20230215T203000
DTSTAMP:20260423T212517
CREATED:20230215T195505Z
LAST-MODIFIED:20230227T205000Z
UID:3808-1676493000-1676493000@ubammusicoterapia.com.br
SUMMARY:Reunião do Conselho de Ética
DESCRIPTION:
URL:https://ubammusicoterapia.com.br/evento/reuniao-do-conselho-de-etica/
CATEGORIES:Agenda de atividades da UBAM
END:VEVENT
BEGIN:VEVENT
DTSTART;TZID=America/Sao_Paulo:20230214T200000
DTEND;TZID=America/Sao_Paulo:20230214T210000
DTSTAMP:20260423T212517
CREATED:20230215T195346Z
LAST-MODIFIED:20230227T205000Z
UID:3806-1676404800-1676408400@ubammusicoterapia.com.br
SUMMARY:Reunião da Diretoria/Comissão Políticas de Organização Profissional
DESCRIPTION:
URL:https://ubammusicoterapia.com.br/evento/reuniao-da-diretoria-comissao-politicas-de-organizacao-profissional/
CATEGORIES:Agenda de atividades da UBAM
END:VEVENT
BEGIN:VEVENT
DTSTART;TZID=America/Sao_Paulo:20230214T100000
DTEND;TZID=America/Sao_Paulo:20230214T110000
DTSTAMP:20260423T212517
CREATED:20230215T195322Z
LAST-MODIFIED:20230227T205452Z
UID:3804-1676368800-1676372400@ubammusicoterapia.com.br
SUMMARY:Reunião com o GT Musicoterapia e PICs
DESCRIPTION:
URL:https://ubammusicoterapia.com.br/evento/reuniao-com-o-gt-musicoterapia-e-pics/
CATEGORIES:Agenda de atividades da UBAM
END:VEVENT
BEGIN:VEVENT
DTSTART;TZID=America/Sao_Paulo:20230213T200000
DTEND;TZID=America/Sao_Paulo:20230213T210000
DTSTAMP:20260423T212517
CREATED:20230215T195016Z
LAST-MODIFIED:20230227T205000Z
UID:3802-1676318400-1676322000@ubammusicoterapia.com.br
SUMMARY:Reunião com Conselhos de Ética e Fiscal\, Comissão de Formação\, jurídico e equipe de comunicação e marketing
DESCRIPTION:
URL:https://ubammusicoterapia.com.br/evento/reuniao-com-conselhos-de-etica-e-fiscal-comissao-de-formacao-juridico-e-equipe-de-comunicacao-e-marketing/
CATEGORIES:Agenda de atividades da UBAM
END:VEVENT
BEGIN:VEVENT
DTSTART;TZID=America/Sao_Paulo:20230211T193000
DTEND;TZID=America/Sao_Paulo:20230211T213000
DTSTAMP:20260423T212517
CREATED:20230208T224812Z
LAST-MODIFIED:20230227T211556Z
UID:3749-1676143800-1676151000@ubammusicoterapia.com.br
SUMMARY:Formatura Pós Graduação Musicoterapia no ES
DESCRIPTION:
URL:https://ubammusicoterapia.com.br/evento/formatura-pos-graduacao-musicoterapia-no-es/
CATEGORIES:Agenda de eventos
END:VEVENT
BEGIN:VEVENT
DTSTART;TZID=America/Sao_Paulo:20230211T093000
DTEND;TZID=America/Sao_Paulo:20230211T180000
DTSTAMP:20260423T212517
CREATED:20230202T194933Z
LAST-MODIFIED:20230227T211702Z
UID:3726-1676107800-1676138400@ubammusicoterapia.com.br
SUMMARY:Contribuições da Neurociência para a Musicoterapia
DESCRIPTION:Profa. Dra. Maria Clotilde Henrique Tavares \nSábado\, 11 de fevereiro de 2023 \n9:30 às 12:30 e 14:00 às 18:00. Plataforma Zoom \nGrátis para os associados em dia com a AMTRJ\, 20 reais para os associados em dia de outras AMTs e 50 reais para os demais. \nInscrições: tesourariaamtrj@gmail.com até o dia 09/02/23. \nSerão emitidos certificados. \nAtenção: Vagas ilimitadas!
URL:https://ubammusicoterapia.com.br/evento/contribuicoes-da-neurociencia-para-a-musicoterapia/
CATEGORIES:Agenda de eventos
ATTACH;FMTTYPE=image/jpeg:https://ubammusicoterapia.com.br/wp-content/uploads/2023/02/evento-contribuicoes-da-neurociencia-para-a-musicoterapia.jpg
END:VEVENT
BEGIN:VEVENT
DTSTART;TZID=America/Sao_Paulo:20230211T080000
DTEND;TZID=America/Sao_Paulo:20230211T090000
DTSTAMP:20260423T212517
CREATED:20230215T194938Z
LAST-MODIFIED:20230227T205000Z
UID:3800-1676102400-1676106000@ubammusicoterapia.com.br
SUMMARY:Participação da presidência na aula magna da pós-graduação de Musicoterapia do Instituto Graduale
DESCRIPTION:
URL:https://ubammusicoterapia.com.br/evento/participacao-da-presidencia-na-aula-magna-da-pos-graduacao-de-musicoterapia-do-instituto-graduale/
CATEGORIES:Agenda de atividades da UBAM
END:VEVENT
BEGIN:VEVENT
DTSTART;TZID=America/Sao_Paulo:20230210T203000
DTEND;TZID=America/Sao_Paulo:20230210T213000
DTSTAMP:20260423T212517
CREATED:20230215T194919Z
LAST-MODIFIED:20230227T205000Z
UID:3798-1676061000-1676064600@ubammusicoterapia.com.br
SUMMARY:Reunião com equipe de comunicação
DESCRIPTION:
URL:https://ubammusicoterapia.com.br/evento/reuniao-com-equipe-de-comunicacao/
CATEGORIES:Agenda de atividades da UBAM
END:VEVENT
BEGIN:VEVENT
DTSTART;TZID=America/Sao_Paulo:20230209T213000
DTEND;TZID=America/Sao_Paulo:20230209T223000
DTSTAMP:20260423T212517
CREATED:20230215T194841Z
LAST-MODIFIED:20230227T205000Z
UID:3796-1675978200-1675981800@ubammusicoterapia.com.br
SUMMARY:Reunião da Tesouraria da UBAM
DESCRIPTION:
URL:https://ubammusicoterapia.com.br/evento/reuniao-da-tesouraria-da-ubam-3/
CATEGORIES:Agenda de atividades da UBAM
END:VEVENT
BEGIN:VEVENT
DTSTART;TZID=America/Sao_Paulo:20230209T200000
DTEND;TZID=America/Sao_Paulo:20230209T210000
DTSTAMP:20260423T212517
CREATED:20230215T194817Z
LAST-MODIFIED:20230227T205000Z
UID:3794-1675972800-1675976400@ubammusicoterapia.com.br
SUMMARY:Reunião com Comissão do Estatuto e Regimento
DESCRIPTION:
URL:https://ubammusicoterapia.com.br/evento/reuniao-com-comissao-do-estatuto-e-regimento/
CATEGORIES:Agenda de atividades da UBAM
END:VEVENT
BEGIN:VEVENT
DTSTART;TZID=America/Sao_Paulo:20230207T210000
DTEND;TZID=America/Sao_Paulo:20230207T220000
DTSTAMP:20260423T212517
CREATED:20230215T194753Z
LAST-MODIFIED:20230227T205000Z
UID:3792-1675803600-1675807200@ubammusicoterapia.com.br
SUMMARY:Reunião com GT Arquivo e Documentação
DESCRIPTION:
URL:https://ubammusicoterapia.com.br/evento/reuniao-com-gt-arquivo-e-documentacao/
CATEGORIES:Agenda de atividades da UBAM
END:VEVENT
END:VCALENDAR