BEGIN:VCALENDAR
VERSION:2.0
PRODID:-//UBAM - União Brasileira das Associações de Musicoterapia - ECPv6.13.2.1//NONSGML v1.0//EN
CALSCALE:GREGORIAN
METHOD:PUBLISH
X-ORIGINAL-URL:https://ubammusicoterapia.com.br
X-WR-CALDESC:Eventos para UBAM - União Brasileira das Associações de Musicoterapia
REFRESH-INTERVAL;VALUE=DURATION:PT1H
X-Robots-Tag:noindex
X-PUBLISHED-TTL:PT1H
BEGIN:VTIMEZONE
TZID:America/Sao_Paulo
BEGIN:STANDARD
TZOFFSETFROM:-0300
TZOFFSETTO:-0300
TZNAME:-03
DTSTART:20210101T000000
END:STANDARD
END:VTIMEZONE
BEGIN:VEVENT
DTSTART;TZID=America/Sao_Paulo:20230211T093000
DTEND;TZID=America/Sao_Paulo:20230211T180000
DTSTAMP:20260424T000117
CREATED:20230202T194933Z
LAST-MODIFIED:20230227T211702Z
UID:3726-1676107800-1676138400@ubammusicoterapia.com.br
SUMMARY:Contribuições da Neurociência para a Musicoterapia
DESCRIPTION:Profa. Dra. Maria Clotilde Henrique Tavares \nSábado\, 11 de fevereiro de 2023 \n9:30 às 12:30 e 14:00 às 18:00. Plataforma Zoom \nGrátis para os associados em dia com a AMTRJ\, 20 reais para os associados em dia de outras AMTs e 50 reais para os demais. \nInscrições: tesourariaamtrj@gmail.com até o dia 09/02/23. \nSerão emitidos certificados. \nAtenção: Vagas ilimitadas!
URL:https://ubammusicoterapia.com.br/evento/contribuicoes-da-neurociencia-para-a-musicoterapia/
CATEGORIES:Agenda de eventos
ATTACH;FMTTYPE=image/jpeg:https://ubammusicoterapia.com.br/wp-content/uploads/2023/02/evento-contribuicoes-da-neurociencia-para-a-musicoterapia.jpg
END:VEVENT
BEGIN:VEVENT
DTSTART;TZID=America/Sao_Paulo:20230211T080000
DTEND;TZID=America/Sao_Paulo:20230211T090000
DTSTAMP:20260424T000117
CREATED:20230215T194938Z
LAST-MODIFIED:20230227T205000Z
UID:3800-1676102400-1676106000@ubammusicoterapia.com.br
SUMMARY:Participação da presidência na aula magna da pós-graduação de Musicoterapia do Instituto Graduale
DESCRIPTION:
URL:https://ubammusicoterapia.com.br/evento/participacao-da-presidencia-na-aula-magna-da-pos-graduacao-de-musicoterapia-do-instituto-graduale/
CATEGORIES:Agenda de atividades da UBAM
END:VEVENT
BEGIN:VEVENT
DTSTART;TZID=America/Sao_Paulo:20230210T203000
DTEND;TZID=America/Sao_Paulo:20230210T213000
DTSTAMP:20260424T000117
CREATED:20230215T194919Z
LAST-MODIFIED:20230227T205000Z
UID:3798-1676061000-1676064600@ubammusicoterapia.com.br
SUMMARY:Reunião com equipe de comunicação
DESCRIPTION:
URL:https://ubammusicoterapia.com.br/evento/reuniao-com-equipe-de-comunicacao/
CATEGORIES:Agenda de atividades da UBAM
END:VEVENT
BEGIN:VEVENT
DTSTART;TZID=America/Sao_Paulo:20230209T213000
DTEND;TZID=America/Sao_Paulo:20230209T223000
DTSTAMP:20260424T000117
CREATED:20230215T194841Z
LAST-MODIFIED:20230227T205000Z
UID:3796-1675978200-1675981800@ubammusicoterapia.com.br
SUMMARY:Reunião da Tesouraria da UBAM
DESCRIPTION:
URL:https://ubammusicoterapia.com.br/evento/reuniao-da-tesouraria-da-ubam-3/
CATEGORIES:Agenda de atividades da UBAM
END:VEVENT
BEGIN:VEVENT
DTSTART;TZID=America/Sao_Paulo:20230209T200000
DTEND;TZID=America/Sao_Paulo:20230209T210000
DTSTAMP:20260424T000117
CREATED:20230215T194817Z
LAST-MODIFIED:20230227T205000Z
UID:3794-1675972800-1675976400@ubammusicoterapia.com.br
SUMMARY:Reunião com Comissão do Estatuto e Regimento
DESCRIPTION:
URL:https://ubammusicoterapia.com.br/evento/reuniao-com-comissao-do-estatuto-e-regimento/
CATEGORIES:Agenda de atividades da UBAM
END:VEVENT
BEGIN:VEVENT
DTSTART;TZID=America/Sao_Paulo:20230207T210000
DTEND;TZID=America/Sao_Paulo:20230207T220000
DTSTAMP:20260424T000117
CREATED:20230215T194753Z
LAST-MODIFIED:20230227T205000Z
UID:3792-1675803600-1675807200@ubammusicoterapia.com.br
SUMMARY:Reunião com GT Arquivo e Documentação
DESCRIPTION:
URL:https://ubammusicoterapia.com.br/evento/reuniao-com-gt-arquivo-e-documentacao/
CATEGORIES:Agenda de atividades da UBAM
END:VEVENT
BEGIN:VEVENT
DTSTART;TZID=America/Sao_Paulo:20230207T210000
DTEND;TZID=America/Sao_Paulo:20230207T210000
DTSTAMP:20260424T000117
CREATED:20230215T194722Z
LAST-MODIFIED:20230227T205052Z
UID:3790-1675803600-1675803600@ubammusicoterapia.com.br
SUMMARY:Participação da presidência da UBAM no Comitê Latino-americano de Musicoterapia (CLAM)
DESCRIPTION:
URL:https://ubammusicoterapia.com.br/evento/participacao-da-presidencia-da-ubam-no-comite-latino-americano-de-musicoterapia-clam/
CATEGORIES:Agenda de atividades da UBAM
END:VEVENT
BEGIN:VEVENT
DTSTART;TZID=America/Sao_Paulo:20230207T200000
DTEND;TZID=America/Sao_Paulo:20230207T210000
DTSTAMP:20260424T000117
CREATED:20230215T194609Z
LAST-MODIFIED:20230227T205000Z
UID:3788-1675800000-1675803600@ubammusicoterapia.com.br
SUMMARY:Reunião da Secretaria da UBAM
DESCRIPTION:
URL:https://ubammusicoterapia.com.br/evento/reuniao-da-secretaria-da-ubam-2/
CATEGORIES:Agenda de atividades da UBAM
END:VEVENT
BEGIN:VEVENT
DTSTART;TZID=America/Sao_Paulo:20230206T200000
DTEND;TZID=America/Sao_Paulo:20230206T210000
DTSTAMP:20260424T000117
CREATED:20230215T194549Z
LAST-MODIFIED:20230227T205000Z
UID:3786-1675713600-1675717200@ubammusicoterapia.com.br
SUMMARY:Reunião com Comissão de Divulgação e Marketing
DESCRIPTION:
URL:https://ubammusicoterapia.com.br/evento/reuniao-com-comissao-de-divulgacao-e-marketing/
CATEGORIES:Agenda de atividades da UBAM
END:VEVENT
BEGIN:VEVENT
DTSTART;TZID=America/Sao_Paulo:20230202T193000
DTEND;TZID=America/Sao_Paulo:20230202T203000
DTSTAMP:20260424T000117
CREATED:20230215T194526Z
LAST-MODIFIED:20230227T205000Z
UID:3784-1675366200-1675369800@ubammusicoterapia.com.br
SUMMARY:Reunião com Comissão Editora Musicoterapia Brasil
DESCRIPTION:
URL:https://ubammusicoterapia.com.br/evento/reuniao-com-comissao-editora-musicoterapia-brasil/
CATEGORIES:Agenda de atividades da UBAM
END:VEVENT
BEGIN:VEVENT
DTSTART;TZID=America/Sao_Paulo:20230201T200000
DTEND;TZID=America/Sao_Paulo:20230201T210000
DTSTAMP:20260424T000117
CREATED:20230215T194450Z
LAST-MODIFIED:20230227T205000Z
UID:3782-1675281600-1675285200@ubammusicoterapia.com.br
SUMMARY:Reunião com Conselho de Ética
DESCRIPTION:
URL:https://ubammusicoterapia.com.br/evento/reuniao-com-conselho-de-etica/
CATEGORIES:Agenda de atividades da UBAM
END:VEVENT
BEGIN:VEVENT
DTSTART;TZID=America/Sao_Paulo:20230131T200000
DTEND;TZID=America/Sao_Paulo:20230131T210000
DTSTAMP:20260424T000117
CREATED:20230215T194328Z
LAST-MODIFIED:20230227T205000Z
UID:3780-1675195200-1675198800@ubammusicoterapia.com.br
SUMMARY:Reunião com Associações Vinculadas à UBAM
DESCRIPTION:
URL:https://ubammusicoterapia.com.br/evento/reuniao-com-associacoes-vinculadas-a-ubam/
CATEGORIES:Agenda de atividades da UBAM
END:VEVENT
BEGIN:VEVENT
DTSTART;VALUE=DATE:20230128
DTEND;VALUE=DATE:20230129
DTSTAMP:20260424T000117
CREATED:20230215T194303Z
LAST-MODIFIED:20230227T205043Z
UID:3778-1674864000-1674950399@ubammusicoterapia.com.br
SUMMARY:Assinatura em apoio à Nota de Repúdio da Associação Brasileira de Saúde Mental (ABRASME) à criação do Departamento de Apoio às Comunidades Terapêuticas
DESCRIPTION:
URL:https://ubammusicoterapia.com.br/evento/assinatura-em-apoio-a-nota-de-repudio-da-associacao-brasileira-de-saude-mental-abrasme-a-criacao-do-departamento-de-apoio-as-comunidades-terapeuticas/
CATEGORIES:Agenda de atividades da UBAM
END:VEVENT
BEGIN:VEVENT
DTSTART;TZID=America/Sao_Paulo:20230127T100000
DTEND;TZID=America/Sao_Paulo:20230127T110000
DTSTAMP:20260424T000117
CREATED:20230215T194202Z
LAST-MODIFIED:20230227T205000Z
UID:3776-1674813600-1674817200@ubammusicoterapia.com.br
SUMMARY:Reunião com Comissão Revista BRJMT
DESCRIPTION:
URL:https://ubammusicoterapia.com.br/evento/reuniao-com-comissao-revista-brjmt/
CATEGORIES:Agenda de atividades da UBAM
END:VEVENT
BEGIN:VEVENT
DTSTART;TZID=America/Sao_Paulo:20230126T200000
DTEND;TZID=America/Sao_Paulo:20230126T210000
DTSTAMP:20260424T000117
CREATED:20230215T194135Z
LAST-MODIFIED:20230227T205000Z
UID:3774-1674763200-1674766800@ubammusicoterapia.com.br
SUMMARY:Reunião com GT 27
DESCRIPTION:
URL:https://ubammusicoterapia.com.br/evento/reuniao-com-gt-27/
CATEGORIES:Agenda de atividades da UBAM
END:VEVENT
BEGIN:VEVENT
DTSTART;TZID=America/Sao_Paulo:20230125T190000
DTEND;TZID=America/Sao_Paulo:20230125T200000
DTSTAMP:20260424T000117
CREATED:20230215T194059Z
LAST-MODIFIED:20230227T205000Z
UID:3772-1674673200-1674676800@ubammusicoterapia.com.br
SUMMARY:Reunião com Comissão de Formação
DESCRIPTION:
URL:https://ubammusicoterapia.com.br/evento/reuniao-com-comissao-de-formacao/
CATEGORIES:Agenda de atividades da UBAM
END:VEVENT
BEGIN:VEVENT
DTSTART;TZID=America/Sao_Paulo:20230124T160000
DTEND;TZID=America/Sao_Paulo:20230124T170000
DTSTAMP:20260424T000117
CREATED:20230215T194026Z
LAST-MODIFIED:20230227T205001Z
UID:3770-1674576000-1674579600@ubammusicoterapia.com.br
SUMMARY:Reunião com GT Pesquisa
DESCRIPTION:
URL:https://ubammusicoterapia.com.br/evento/reuniao-com-gt-pesquisa/
CATEGORIES:Agenda de atividades da UBAM
END:VEVENT
BEGIN:VEVENT
DTSTART;TZID=America/Sao_Paulo:20230123T200000
DTEND;TZID=America/Sao_Paulo:20230123T210000
DTSTAMP:20260424T000117
CREATED:20230215T193958Z
LAST-MODIFIED:20230227T205001Z
UID:3768-1674504000-1674507600@ubammusicoterapia.com.br
SUMMARY:Reunião com Comissão SUS
DESCRIPTION:
URL:https://ubammusicoterapia.com.br/evento/reuniao-com-comissao-sus/
CATEGORIES:Agenda de atividades da UBAM
END:VEVENT
BEGIN:VEVENT
DTSTART;TZID=America/Sao_Paulo:20230123T100000
DTEND;TZID=America/Sao_Paulo:20230123T110000
DTSTAMP:20260424T000117
CREATED:20230215T193922Z
LAST-MODIFIED:20230227T205001Z
UID:3766-1674468000-1674471600@ubammusicoterapia.com.br
SUMMARY:Reunião da Secretaria da UBAM
DESCRIPTION:
URL:https://ubammusicoterapia.com.br/evento/reuniao-da-secretaria-da-ubam/
CATEGORIES:Agenda de atividades da UBAM
END:VEVENT
BEGIN:VEVENT
DTSTART;TZID=America/Sao_Paulo:20230118T200000
DTEND;TZID=America/Sao_Paulo:20230118T210000
DTSTAMP:20260424T000117
CREATED:20230215T193845Z
LAST-MODIFIED:20230227T205001Z
UID:3764-1674072000-1674075600@ubammusicoterapia.com.br
SUMMARY:Reunião com GT ANS
DESCRIPTION:
URL:https://ubammusicoterapia.com.br/evento/reuniao-com-gt-ans/
CATEGORIES:Agenda de atividades da UBAM
END:VEVENT
BEGIN:VEVENT
DTSTART;TZID=America/Sao_Paulo:20230114T130000
DTEND;TZID=America/Sao_Paulo:20230114T140000
DTSTAMP:20260424T000117
CREATED:20230215T193809Z
LAST-MODIFIED:20230227T205001Z
UID:3762-1673701200-1673704800@ubammusicoterapia.com.br
SUMMARY:Reunião da Diretoria da UBAM
DESCRIPTION:
URL:https://ubammusicoterapia.com.br/evento/reuniao-da-diretoria-da-ubam/
CATEGORIES:Agenda de atividades da UBAM
END:VEVENT
BEGIN:VEVENT
DTSTART;VALUE=DATE:20230109
DTEND;VALUE=DATE:20230110
DTSTAMP:20260424T000117
CREATED:20230215T193711Z
LAST-MODIFIED:20230227T205001Z
UID:3760-1673222400-1673308799@ubammusicoterapia.com.br
SUMMARY:Reunião da Tesouraria da UBAM
DESCRIPTION:
URL:https://ubammusicoterapia.com.br/evento/reuniao-da-tesouraria-da-ubam-2/
CATEGORIES:Agenda de atividades da UBAM
END:VEVENT
BEGIN:VEVENT
DTSTART;VALUE=DATE:20221229
DTEND;VALUE=DATE:20221230
DTSTAMP:20260424T000117
CREATED:20230215T193519Z
LAST-MODIFIED:20230227T204906Z
UID:3756-1672272000-1672358399@ubammusicoterapia.com.br
SUMMARY:Reunião da Tesouraria da UBAM
DESCRIPTION:
URL:https://ubammusicoterapia.com.br/evento/reuniao-da-tesouraria-da-ubam/
CATEGORIES:Agenda de atividades da UBAM
END:VEVENT
BEGIN:VEVENT
DTSTART;TZID=America/Sao_Paulo:20220916T190000
DTEND;TZID=America/Sao_Paulo:20220917T190000
DTSTAMP:20260424T000117
CREATED:20220913T074643Z
LAST-MODIFIED:20230227T204849Z
UID:3528-1663354800-1663441200@ubammusicoterapia.com.br
SUMMARY:I Encontro de Musicoterapia da Paraíba
DESCRIPTION:É com imensa alegria que a Associação de Musicoterapia da Paraíba (AMTPB) convida todos os cidadãos a participarem do I Encontro de Musicoterapia da Paraíba. Nos dias 16 e 17 de setembro de 2022 promoveremos momentos históricos de diálogos entre musicoterapeutas e outros profissionais da área da saúde. O evento acontecerá no auditório 9 da Escola Estadual de Música Anthenor Navarro (EEMAN) e contará com palestras\, mesa redonda e apresentações musicais\, marcando assim o início de um novo tempo em nosso Estado onde a intervenção profissional da Musicoterapia não somente será reconhecida\, mas respeitada como ato imprescindível para a vida humana. \nProgramação do I Encontro de Musicoterapia da Paraíba: \nSexta-feira (dia 16/09) \nTurno Noite: \n19:00 – Abertura \n20:00 – Palesta: Musicoterapia no Brasil – Prof(a). Luciana Frias \n22:00 – Encerramento \nSábado (Dia 17/09) \nTurno Manhã: \n08:00 – Abertura \n08:30 – Palestra: Música\, Musicoterapia e Saúde – Prof. Dr. José Davison da Silva Júnior \n09:30 – Intervalo \n10:00 – Mesa Redonda – Articulação entre \nMusicoterapia e Outras Áreas. \nTurno Tarde: \n14:00- Abertura \n14:30 – Palestra: Regulamentação Profissional – Prof(a) Dr(a). Nathalya Avelino \n15:30 – Intervalo \n16:00 – Palestra: Musicoterapia e Musicalização – Prof. Dr. Gleisson Oliveira \n18:00 – Encerramento \nO email da Associação de Musicoterapia da Paraíba é: amtparaiba@gmail.com \nObs. Para garantir a sua inscrição como sócio e o desconto vinculado à essa categoria é necessário o envio da declaração para comprovar o registro em associação reconhecida pela UBAM. O não envio desse documento poderá acarretar o cancelamento da inscrição.
URL:https://ubammusicoterapia.com.br/evento/i-encontro-de-musicoterapia-da-paraiba/
CATEGORIES:Agenda de eventos
ATTACH;FMTTYPE=image/jpeg:https://ubammusicoterapia.com.br/wp-content/uploads/2022/09/Captura-de-tela-2022-09-13-043540.jpg
ORGANIZER;CN="Associa%C3%A7%C3%A3o de Musicoterapia da Para%C3%ADba":MAILTO:amtparaiba@gmail.com
END:VEVENT
BEGIN:VEVENT
DTSTART;TZID=America/Sao_Paulo:20220702T080000
DTEND;TZID=America/Sao_Paulo:20220702T180000
DTSTAMP:20260424T000117
CREATED:20220308T143036Z
LAST-MODIFIED:20230227T204839Z
UID:3168-1656748800-1656784800@ubammusicoterapia.com.br
SUMMARY:XXIII Fórum Paranaense de Musicoterapia
DESCRIPTION:XXIII Fórum Paranaense de Musicoterapia: um olhar para as práticas baseadas em evidências \n2 de julho de 2022 \nLondrina/PR  e online \nInscrições: https://www.sympla.com.br/evento/xxiii-forum-paranaense-de-musicoterapia/1505061 \nEvento híbrido com 50 vagas presenciais e inscrições online ilimitadas. A participação presencial está condicionada à apresentação prévia do certificado de vacinação no modelo nacional emitido pelo ConecteSUS. Somente após devida comprovação\, a presença será confirmada. Em caso contrário\, o valor será estornado e o participante convidado a participar online. \nA AMT-PR irá seguir protocolos de biossegurança quanto à pandemia de COVID-19\, entre eles será necessário usar máscaras cirúrgicas\, PFF2 ou N95 durante todo o evento. Máscaras de tecido\, face shield e afins não estão autorizados e impedirão a participação no XXIII FPMT. \nSubmissão de trabalhos: \nComunicações orais (apresentação presencial durante o XXIII FPMT) \nPainéis online (vídeo gravado enviado previamente ao XXIII FPMT) \nAs submissões serão de resumos simples. \nValores e tarifas de inscrição: \n1ª tarifa (até 10/05) Presencial: R$ 150\,00 profissional Presencial: R$ 75\,00 estudante* 1ª tarifa (até 10/05) Online: R$ 95\,00 profissional Online: R$ 45\,00 estudante* \n2ª tarifa (de 11/05 a 30/06) Presencial: R$ 200\,00 profissional Presencial: R$ 100\,00 estudante* 2ª tarifa (de 11/05 a 30/06) Online: R$ 120\,00 profissional Online: R$ 60\,00 estudante* \n3ª tarifa (no dia) Presencial: R$ 250\,00 profissional Presencial: R$ 150\,00 estudante* 3ª tarifa (no dia) Online: R$ 170\,00 profissional Online: R$ 90\,00 estudante* \nOs estudantes deverão enviar comprovante de matrícula em graduações ou pós-graduações após a inscrição para o e-mail amt.parana@gmail.com \nMais informações em breve. \nOrganização: Departamento Científico & Diretoria da AMT-PR
URL:https://ubammusicoterapia.com.br/evento/xxiii-forum-paranaense-de-musicoterapia/
LOCATION:Blue Tree Londrina\, Av. Juscelino Kubitscheck\, 1356 - Centro\, Londrina\, Paraná\, 86020-000\, Brasil
CATEGORIES:Agenda de eventos
ORGANIZER;CN="Associa%C3%A7%C3%A3o de Musicoterapia do Paran%C3%A1":MAILTO:amt.parana@gmail.com
END:VEVENT
BEGIN:VEVENT
DTSTART;TZID=America/Sao_Paulo:20220521T093000
DTEND;TZID=America/Sao_Paulo:20220522T123000
DTSTAMP:20260424T000117
CREATED:20220510T183915Z
LAST-MODIFIED:20230227T204832Z
UID:3295-1653125400-1653222600@ubammusicoterapia.com.br
SUMMARY:I Seminário Nacional sobre Supervisão em Musicoterapia da UBAM
DESCRIPTION:Organização: Comissão de Formação da UBAM \n  \n21 de maio de 2022 das 9h30 às 16h30\n22 de maio de 2022 das 9h30 às 12h30 \nEvento gratuito. \nInscrições pelo Google Forms: https://docs.google.com/forms/d/e/1FAIpQLSc5bH6NtROEy66DnKNsqeWXS_GVPOKZ_nztTDtRFUFbq4dLiQ/viewform \nOnde: Plataforma Zoom da UBAM \n 
URL:https://ubammusicoterapia.com.br/evento/i-seminario-nacional-sobre-supervisao-em-musicoterapia-da-ubam/
CATEGORIES:Agenda de eventos
ATTACH;FMTTYPE=image/jpeg:https://ubammusicoterapia.com.br/wp-content/uploads/2022/05/I-Seminario-Nacional-sobre-Supervisao-em-Musicoterapia-UBAM.jpg
END:VEVENT
BEGIN:VEVENT
DTSTART;TZID=America/Sao_Paulo:20211127T090000
DTEND;TZID=America/Sao_Paulo:20211127T130000
DTSTAMP:20260424T000117
CREATED:20211105T190127Z
LAST-MODIFIED:20230227T204819Z
UID:2823-1638003600-1638018000@ubammusicoterapia.com.br
SUMMARY:I Encontro de Musicoterapeutas SUS
DESCRIPTION:Objetivo Principal: \nPromover o encontro de Musicoterapeutas que atuam no SUS para troca de experiências. \nObjetivos secundários: \n– Conhecer colegas do SUS;\n– Levantamento de boas ações em musicoterapia no SUS;\n– Produção de um mapeamento nacional de serviços de musicoterapia no SUS;\n– Relacionar dificuldades encontradas;\n– Produzir ideias de realização de ações conjuntas para o fortalecimento da musicoterapia no SUS. \nMetodologia:\nEncontro de musicoterapeutas que trabalham no SUS pela Plataforma Zoom. \nDia 27 /11/2021\ndas 9h às 13h \nPara se inscrever clique no link abaixo – você será direcionado ao formulário de inscrição. \nhttps://docs.google.com/forms/d/e/1FAIpQLScs6t0MI-RBq4S11hU6wHuoPGh2ocFj8pSWmNIG8qzo3J8Bvg/viewform?usp=sf_link
URL:https://ubammusicoterapia.com.br/evento/i-encontro-de-musicoterapeutas-sus/
LOCATION:Online\, Brasil
CATEGORIES:Agenda de eventos
ATTACH;FMTTYPE=application/pdf:https://ubammusicoterapia.com.br/wp-content/uploads/2021/11/Encontro-SUS.pdf
END:VEVENT
BEGIN:VEVENT
DTSTART;TZID=America/Sao_Paulo:20211106T080000
DTEND;TZID=America/Sao_Paulo:20211112T200000
DTSTAMP:20260424T000117
CREATED:20210613T210632Z
LAST-MODIFIED:20230227T204803Z
UID:1602-1636185600-1636747200@ubammusicoterapia.com.br
SUMMARY:XVII SBMT e XXI ENPEMT
DESCRIPTION:Organizadora: APEMESP \nTema: A Musicoterapia participando no processo de construção da sociedade \nLocal: São Paulo – SP \nLink de Inscrição: https://eventosapemesp.wixsite.com/simposio
URL:https://ubammusicoterapia.com.br/evento/xvii-sbmt-e-xxi-enpemt/
CATEGORIES:Agenda de eventos
ATTACH;FMTTYPE=image/jpeg:https://ubammusicoterapia.com.br/wp-content/uploads/2021/06/evento-xxi-enpemt-ubam.jpg
END:VEVENT
BEGIN:VEVENT
DTSTART;VALUE=DATE:20210918
DTEND;VALUE=DATE:20210919
DTSTAMP:20260424T000117
CREATED:20210828T154923Z
LAST-MODIFIED:20230227T204743Z
UID:2582-1631923200-1632009599@ubammusicoterapia.com.br
SUMMARY:XIII Fórum e I Seminário Internacional de Musicoterapia da AMT-RS
DESCRIPTION:
URL:https://ubammusicoterapia.com.br/evento/xiii-forum-e-i-seminario-internacional-de-musicoterapia-da-amt-rs/
LOCATION:Online\, Brasil
CATEGORIES:Agenda de eventos
ATTACH;FMTTYPE=image/jpeg:https://ubammusicoterapia.com.br/wp-content/uploads/2021/08/WhatsApp-Image-2021-08-04-at-13.52.07.jpeg
ORGANIZER;CN="Associa%C3%A7%C3%A3o de Musicoterapia do Rio Grande do Sul":MAILTO:amtrs@amt-rs.com.br
END:VEVENT
BEGIN:VEVENT
DTSTART;TZID=America/Sao_Paulo:20210911T090000
DTEND;TZID=America/Sao_Paulo:20210911T120000
DTSTAMP:20260424T000117
CREATED:20211125T212953Z
LAST-MODIFIED:20230227T204724Z
UID:2918-1631350800-1631361600@ubammusicoterapia.com.br
SUMMARY:SEMINÁRIO UBAM - Setembro de 2021
DESCRIPTION:Dia 11 de setembro de 2021\ndas 9h às 12h \n  \nObjetivo:\nConstruir redes através do compartilhamento de\nconhecimento.\nColaborar na produção de estratégias de diálogo. \n  \nMais informações \nProgramação
URL:https://ubammusicoterapia.com.br/evento/seminario-ubam-setembro-de-2021/
CATEGORIES:Agenda de eventos
ATTACH;FMTTYPE=image/jpeg:https://ubammusicoterapia.com.br/wp-content/uploads/2021/11/seminario-ubam-set2021.jpg
END:VEVENT
END:VCALENDAR